BEGIN:VCALENDAR
VERSION:2.0
PRODID:-//192.185.39.249//NONSGML kigkonsult.se iCalcreator 2.26.9//
CALSCALE:GREGORIAN
METHOD:PUBLISH
X-FROM-URL:http://menardchamber.com
X-WR-TIMEZONE:America/Chicago
BEGIN:VTIMEZONE
TZID:America/Chicago
X-LIC-LOCATION:America/Chicago
BEGIN:STANDARD
DTSTART:20251102T020000
TZOFFSETFROM:-0500
TZOFFSETTO:-0600
RDATE:20261101T020000
TZNAME:CST
END:STANDARD
BEGIN:DAYLIGHT
DTSTART:20260308T020000
TZOFFSETFROM:-0600
TZOFFSETTO:-0500
RDATE:20270314T020000
TZNAME:CDT
END:DAYLIGHT
END:VTIMEZONE
BEGIN:VEVENT
UID:ai1ec-577@menardchamber.com/home
DTSTAMP:20260423T115002Z
CATEGORIES:
CONTACT:Menard Chamber of Commerce\; 325-396-2365\; menardchamber@gmail.com
 \; menardchamber.com
DESCRIPTION:<p>River Rat Fest concert with Jim Bowie Cook Off featuring PAT
  GREEN & CORY MORROW</p>\n<p>$20 tickets\, adults</p>\n<p>$10 tickets for 
 minors 7-20 years old</p>\n<p>$10/ticket 65+</p>\n<p>children 6 & under ar
 e free</p>\n<p>$20 cooler charge\, one time fee\, good for all day and nig
 ht</p>\n<p>BYOB & lawn chairs</p>\n<p>vendors\, food\, kids activities\, c
 ook off</p>\n<p>Gates open at 9 a.m.\, concert starts at 7 pm</p>\n<p>inqu
 ire at the Chamber office\, 325-396-2365 or email us at menardchamber@gmai
 l.com for vendor packets\, cook off packets or concert info including VIP 
 tables and sponsorships</p>\n<p>Tickets: <a class='ai1ec-ticket-url-export
 ed' href='https://www.eventbrite.com/organizations/events'>https://www.eve
 ntbrite.com/organizations/events</a>.</p>
DTSTART;VALUE=DATE:20260613
DTEND;VALUE=DATE:20260614
LOCATION:Low Water Crossing Park @ 301 Decker Street
SEQUENCE:0
SUMMARY:Menard River Rat Fest with Jim Bowie Cook Off
URL:http://menardchamber.com/event/menard-river-rat-fest/
X-COST-TYPE:external
X-COST:$20
X-TICKETS-URL:https://www.eventbrite.com/organizations/events
END:VEVENT
BEGIN:VEVENT
UID:ai1ec-494@menardchamber.com/home
DTSTAMP:20260423T115002Z
CATEGORIES:
CONTACT:Terry Kelly\; 325-396-2817
DESCRIPTION:<div class='xdj266r x11i5rnm xat24cr x1mh8g0r x1vvkbs'>Celebrat
 ing the Legacy of the Spanish colonization of the San Saba Valley\, “A Wal
 k through Time” play at 10:30 a.m. featuring dramatization of Menard’s ric
 h Spanish Heritage!</div>\n<div></div>\n<div class='xdj266r x11i5rnm xat24
 cr x1mh8g0r x1vvkbs'>Entertainment\, Vendors\, Living History Demonstratio
 ns\, Food\, Cannons and Tapas y Vino by Texas Scratch Kitchen</div>
DTSTART;TZID=America/Chicago:20241005T100000
DTEND;TZID=America/Chicago:20241005T160000
LOCATION:Presidio de San Saba @ 191 Presidio Rd
SEQUENCE:0
SUMMARY:Spanish Colonial Heritage Day featuring A Walk Through Time
URL:http://menardchamber.com/event/a-walk-through-time/
X-COST-TYPE:free
END:VEVENT
BEGIN:VEVENT
UID:ai1ec-519@menardchamber.com/home
DTSTAMP:20260423T115002Z
CATEGORIES:
CONTACT:Cherry Swindall\; 325-396-2365\; menardchamber@gmail.com
DESCRIPTION:<p>Happy hour from 6-7 p.m.<br />\nA meal will be provided alon
 g with music during happy hour!<br />\nCitizen of the Year\, Pioneer of th
 e Year\, Teacher of the Year\, Business of the Year\, Jr Citizen of the Ye
 ar and Volunteer of the Year \, Special Recognition will all be announced 
 at the banquet.<br />\nTo reserve a table for please call the Chamber offi
 ce. Tables seat 6 for $125.00</p>
DTSTART;TZID=America/Chicago:20260305T180000
DTEND;TZID=America/Chicago:20260305T200000
LOCATION:Club Victoria @ Frisco Ave
SEQUENCE:0
SUMMARY:Chamber Banquet 2026
URL:http://menardchamber.com/event/chamber-banquet/
X-COST-TYPE:external
X-COST:$15 each or 2/$25
END:VEVENT
BEGIN:VEVENT
UID:ai1ec-876@menardchamber.com/home
DTSTAMP:20260423T115002Z
CATEGORIES:
CONTACT:
DESCRIPTION:<p>An evening of music\, dancing and memories of Aaron Kothmann
 .</p>\n<p>Concession stand will be avaiable\, BYOB event (set ups availabl
 e)\, and a silent auction.</p>\n<p>Kid/Family friendly event!</p>\n<p>Danc
 e to the music of Wagon Aces!</p>\n<p>All proceeds go to the Aaron Kothman
 n scholarhip fund.</p>
DTSTART;TZID=America/Chicago:20260307T180000
DTEND;TZID=America/Chicago:20260307T220000
LOCATION:American Legion Hall @ Highway 190 East\, Menard Tx 76859
SEQUENCE:0
SUMMARY:Aaron Kothmann Scholarship Fund fundraiser
URL:http://menardchamber.com/event/aaron-kothmann-scholarship-fund-fundrais
 er/
X-COST-TYPE:free
END:VEVENT
BEGIN:VEVENT
UID:ai1ec-871@menardchamber.com/home
DTSTAMP:20260423T115002Z
CATEGORIES:
CONTACT:Menard Chamber of Commerce\; 325-396-2365\; menardchamber@gmail.com
 \; menardchamber.com
DESCRIPTION:<p>Memorial Day Weekend! Gather your friends & family and come 
 have a good time & listen to live music with us in the Low Water Park!</p>
 \n<p>Entertainment: TBA</p>\n<p>BYOB and your lawn chairs!</p>\n<p>FREE ev
 ent\, welcome to all ages!</p>\n<p>We look forward to seeing you!</p>
DTSTART;TZID=America/Chicago:20260523T180000
DTEND;TZID=America/Chicago:20260523T200000
LOCATION:Low Water Park @ 301 Decker St.
SEQUENCE:0
SUMMARY:Menard River Rat Picnic\, May 2026
URL:http://menardchamber.com/event/menard-river-rat-picnic/
X-COST-TYPE:free
END:VEVENT
BEGIN:VEVENT
UID:ai1ec-875@menardchamber.com/home
DTSTAMP:20260423T115002Z
CATEGORIES:
CONTACT:Cherry Swindall\; 325-396-2365\; menardchamber@gmail.com
DESCRIPTION:<p>Free concert on homecoming weekend in the park! BYOB\, a pic
 nic\, law chairs. Bring your friends\, family and class mates and join us!
 </p>\n<p>Exact date of homecoming is to TBD.</p>
DTSTART;TZID=America/Chicago:20260926T190900
DTEND;TZID=America/Chicago:20260926T200900
LOCATION:Low Water Park @ 301 Decker St.\, Menard Texas 76859
SEQUENCE:0
SUMMARY:Menard River Rat Picnic\, Homecoming weekend 2026
URL:http://menardchamber.com/event/menard-river-rat-picnic-homecoming-weeke
 nd-2026/
X-COST-TYPE:free
END:VEVENT
BEGIN:VEVENT
UID:ai1ec-521@menardchamber.com/home
DTSTAMP:20260423T115002Z
CATEGORIES:
CONTACT:Cherry Swindall\; 325-396-2365\; menardchamber@gmail.com\; menardch
 amber.com
DESCRIPTION:<p>Chili\, beans\, rice\, tamales\, guns & raffles!!!<br />\nBY
 OB\, set ups provided. Call for more info</p>
DTSTART;TZID=America/Chicago:20261107T190000
DTEND;TZID=America/Chicago:20261107T230000
LOCATION:Club Victoria @ Frisco Ave
SEQUENCE:0
SUMMARY:Hunters Blowout 2026
URL:http://menardchamber.com/event/hunters-blowout-2020/
X-COST-TYPE:external
X-COST:$15 each or 2/$25
END:VEVENT
BEGIN:VEVENT
UID:ai1ec-589@menardchamber.com/home
DTSTAMP:20260423T115002Z
CATEGORIES:
CONTACT:Cherry Swindall\; 325-396-2365\; menardchamber@gmail.com\; www.mena
 rdchamber.com
DESCRIPTION:<p>Come enjoy Santa in the park with drinks\, sweets and treats
 ! Take a walk in the park through the Christmas lights!</p>\n<p>Free event
 !</p>
DTSTART;TZID=America/Chicago:20261206T160000
LOCATION:Low Water Crossing Park @ 301 Decker St
SEQUENCE:0
SUMMARY:Christmas in the Park
URL:http://menardchamber.com/event/christmas-in-the-park/
X-COST-TYPE:free
X-INSTANT-EVENT:1
END:VEVENT
END:VCALENDAR
